Workbook

Sheet SUMMARY_233
A1: ELLEMBELLE DISTRICT ASSEMBLY
A2: SUMMARY OF REVENUE AND EXPENDITURE AND 2023 PROPOSED BUDGET ESTIMATES
A3: REVENUE PERFORMANCE, (2020-AUGUST 2022 & 2023 COMPOSITE BUDGET ESTIMATES)
A4: NATURAL ACCOUNT | B4: REVENUE ITEMS | C4: 2017 Estimates | D4: 2017 Actuals | E4: % Performance Against 2017 Actuals | F4: 2018 Estimates | G4: 2018 Actuals | H4: % Performance Against 2018 Actuals | I4: 2019 Estimates | J4: 2019 Actuals | K4: % Performance Against 2019 Actuals | L4: 2020 Estimates | M4: 2020 Actuals | N4: % Performance Against 2020 Actuals | O4: 2021 Estimates | P4: 2021 Actuals | Q4: % Performance Against 2021 Estimate | R4: 2022 Draft Estimates | S4: 2022 Actuals | T4: % Performance Against 2022 Est. | U4: 2023 Approved Estimate as @ August 2022 | V4: Actuals as @ May. 2023 | W4: % Performance Against 2023 Est. | X4: 2023 Approved Estimate as per Estimate & contracts | Y4: 2023 Review
A5: 1131000 | B5: RATES | C5: 456000 | D5: 5502.2 | E5: =D5/C5*100 -> 1.2066228 | F5: 456000 | G5: 100161.5 | H5: =G5/F5*100 -> 21.965241 | I5: ='[1]REV-S'!C5 -> 1881000 | J5: ='[1]REV-S'!D5 -> 2003680.1 | K5: =J5/I5*100 -> 106.52207 | L5: ='[1]REV-S'!F5 -> 2640000 | M5: ='[2]R-dtls'!G8 -> 2609049.2 | N5: =M5/L5*100 -> 98.827621 | O5: ='[2]R-dtls'!I8 -> 2732500 | P5: ='[2]R-dtls'!J8 -> 2032868.6 | Q5: ='[2]R-dtls'!K8 -> 74.395922 | R5: ='[2]R-dtls'!M8 -> 2732500 | S5: =R_23_DTLS!J8 -> 3374640.1 | T5: =S5/R5*100 -> 123.50009 | U5: =R_23_DTLS!L8 -> 3832500 | V5: =R_23_DTLS!M8 -> 3455 | W5: =V5/U5*100 -> 0.090150033 | X5: =U5 -> 3832500 | Y5: =R_23_DTLS!P8 -> 3832500
A6: 1331000 | B6: GRANTS | C6: 6007357 | D6: 2246382.9 | E6: =D6/C6*100 -> 37.393864 | F6: 5822046 | G6: 3104080.7 | H6: =G6/F6*100 -> 53.315977 | I6: ='[1]REV-S'!C6 -> 6548883 | J6: ='[1]REV-S'!D6 -> 4863507.9 | K6: =J6/I6*100 -> 74.264694 | L6: ='[1]REV-S'!F6 -> 7887198 | M6: ='[2]R-dtls'!G19 -> 5332853 | N6: =M6/L6*100 -> 67.614037 | O6: ='[2]R-dtls'!I19 -> 7689506 | P6: ='[2]R-dtls'!J19 -> 3651315.8 | Q6: ='[2]R-dtls'!K19 -> 47.4844 | R6: ='[2]R-dtls'!M19 -> 8454541 | S6: =R_23_DTLS!J18 -> 7022036.5 | T6: =S6/R6*100 -> 83.05639 | U6: =R_23_DTLS!L18 -> 8739541 | V6: =R_23_DTLS!M18 -> 1777812.1 | W6: =V6/U6*100 -> 20.342168 | X6: =U6 -> 8739541 | Y6: =R_23_DTLS!P18 -> 9839541
A7: 1412000 | B7: LANDS AND ROYALTIES | C7: 880000 | D7: 24211.2 | E7: =D7/C7*100 -> 2.7512727 | F7: 1930000 | G7: 228383.9 | H7: =G7/F7*100 -> 11.833363 | I7: ='[1]REV-S'!C7 -> 1750000 | J7: ='[1]REV-S'!D7 -> 1079445 | K7: =J7/I7*100 -> 61.682571 | L7: ='[1]REV-S'!F7 -> 1981200 | M7: ='[2]R-dtls'!G26 -> 1288290.4 | N7: =M7/L7*100 -> 65.02576 | O7: ='[2]R-dtls'!I26 -> 2572000 | P7: ='[2]R-dtls'!J26 -> 880830.62 | Q7: ='[2]R-dtls'!K26 -> 34.246914 | R7: ='[2]R-dtls'!M26 -> 2323140 | S7: =R_23_DTLS!J25 -> 1580126.7 | T7: =S7/R7*100 -> 68.01685 | U7: =R_23_DTLS!L25 -> 2047243 | V7: =R_23_DTLS!M25 -> 244832.75 | W7: =V7/U7*100 -> 11.959145 | X7: =U7 -> 2047243 | Y7: =R_23_DTLS!P25 -> 2047243
A8: 1415000 | B8: RENT OF LAND, BUILDINGS & HOUSES | C8: 10500 | D8: 3000 | E8: =D8/C8*100 -> 28.571429 | F8: 10500 | G8: 5490 | H8: =G8/F8*100 -> 52.285714 | I8: ='[1]REV-S'!C8 -> 15000 | J8: ='[1]REV-S'!D8 -> 477 | K8: =J8/I8*100 -> 3.18 | L8: ='[1]REV-S'!F8 -> 17000 | M8: ='[2]R-dtls'!G32 -> 23189.35 | N8: =M8/L8*100 -> 136.40794 | O8: ='[2]R-dtls'!I32 -> 12500 | P8: ='[2]R-dtls'!J32 -> 11680 | Q8: ='[2]R-dtls'!K32 -> 93.44 | R8: ='[2]R-dtls'!M32 -> 17460 | S8: =R_23_DTLS!J31 -> 22902 | T8: =S8/R8*100 -> 131.16838 | U8: =R_23_DTLS!L31 -> 52000 | V8: =R_23_DTLS!M31 -> 18757 | W8: =V8/U8*100 -> 36.071154 | X8: =U8 -> 52000 | Y8: =R_23_DTLS!P31 -> 52000
A9: 1422000 | B9: LICENCES | C9: 890940 | D9: 102568 | E9: =D9/C9*100 -> 11.512335 | F9: 880200 | G9: 107962.5 | H9: =G9/F9*100 -> 12.265678 | I9: ='[1]REV-S'!C9 -> 802150 | J9: ='[1]REV-S'!D9 -> 1118881.2 | K9: =J9/I9*100 -> 139.48529 | L9: ='[1]REV-S'!F9 -> 737500 | M9: ='[2]R-dtls'!G113 -> 679759.36 | N9: =M9/L9*100 -> 92.170761 | O9: ='[2]R-dtls'!I113 -> 592000 | P9: ='[2]R-dtls'!J113 -> 322150.76 | Q9: ='[2]R-dtls'!K113 -> 54.417358 | R9: ='[2]R-dtls'!M113 -> 594500 | S9: =R_23_DTLS!J86 -> 315103.92 | T9: =S9/R9*100 -> 53.003183 | U9: =R_23_DTLS!L86 -> 761750 | V9: =R_23_DTLS!M86 -> 1000550.2 | W9: =V9/U9*100 -> 131.3489 | X9: =U9 -> 761750 | Y9: =R_23_DTLS!P86 -> 761750
A10: 1423000 | B10: FEES | C10: 32946 | D10: 35000 | E10: =D10/C10*100 -> 106.23444 | F10: 456000 | G10: 72958.1 | H10: =G10/F10*100 -> 15.999583 | I10: ='[1]REV-S'!C10 -> 185150 | J10: ='[1]REV-S'!D10 -> 159198 | K10: =J10/I10*100 -> 85.983257 | L10: ='[1]REV-S'!F10 -> 217500 | M10: ='[2]R-dtls'!G140 -> 209523.6 | N10: =M10/L10*100 -> 96.33269 | O10: ='[2]R-dtls'!I140 -> 88500 | P10: ='[2]R-dtls'!J140 -> 204164.9 | Q10: ='[2]R-dtls'!K140 -> 230.6948 | R10: ='[2]R-dtls'!M140 -> 129900 | S10: =R_23_DTLS!J106 -> 114513.5 | T10: =S10/R10*100 -> 88.155119 | U10: =R_23_DTLS!L106 -> 304007 | V10: =R_23_DTLS!M106 -> 48396 | W10: =V10/U10*100 -> 15.91937 | X10: =U10 -> 304007 | Y10: =R_23_DTLS!P106 -> 304007
A11: 1430000 | B11: FINES, PENALTIES & FORFEITS | C11: 1000 | D11: 950 | E11: =D11/C11*100 -> 95 | F11: 1000 | G11: 256 | H11: =G11/F11*100 -> 25.6 | I11: ='[1]REV-S'!C11 -> 2500 | J11: 0 | K11: 0 | L11: ='[1]REV-S'!F11 -> 4000 | M11: ='[2]R-dtls'!G145 -> 140 | N11: =M11/L11*100 -> 3.5 | O11: ='[2]R-dtls'!I145 -> 2500 | P11: ='[2]R-dtls'!J145 -> 837 | Q11: ='[2]R-dtls'!K145 -> 33.48 | R11: ='[2]R-dtls'!M145 -> 2500 | S11: =R_23_DTLS!J109 -> 500 | T11: =S11/R11*100 -> 20 | U11: =R_23_DTLS!L109 -> 2500 | V11: =R_23_DTLS!M109 -> 0 | W11: =V11/U11*100 -> 0 | X11: =U11 -> 2500 | Y11: =R_23_DTLS!P109 -> 2500
A12: 1450000 | B12: MISCELLANEOUS & UNIDENTIFIED REVENUE | C12: 22300 | D12: 18200 | E12: =D12/C12*100 -> 81.61435 | F12: 22300 | G12: 1580 | H12: =G12/F12*100 -> 7.0852018 | I12: ='[1]REV-S'!C12 -> 14200 | J12: ='[1]REV-S'!D12 -> 4310 | K12: =J12/I12*100 -> 30.352113 | L12: ='[1]REV-S'!F12 -> 2800 | M12: ='[2]R-dtls'!G153 -> 0 | N12: =M12/L12*100 -> 0 | O12: ='[2]R-dtls'!I153 -> 0 | P12: ='[2]R-dtls'!J153 -> 80 | Q12: ='[2]R-dtls'!K153 -> 0 | R12: ='[2]R-dtls'!M153 -> 0 | S12: =R_23_DTLS!J114 -> 9300 | T12: 0 | U12: =R_23_DTLS!L114 -> 0 | V12: =R_23_DTLS!M114 -> 0 | W12: 0 | X12: =U12 -> 0 | Y12: =R_23_DTLS!P114 -> 0
A13: TOTAL REVENUE | C13: =SUM(C5:C12) -> 8301043 | D13: =SUM(D5:D12) -> 2435814.3 | E13: =D13/C13*100 -> 29.343473 | F13: =SUM(F6:F12) -> 9122046 | G13: =SUM(G5:G12) -> 3620872.7 | H13: =G13/F13*100 -> 39.693647 | I13: =SUM(I5:I12) -> 11198883 | J13: =SUM(J5:J12) -> 9229499.3 | K13: =J13/I13*100 -> 82.414463 | L13: =SUM(L5:L12) -> 13487198 | M13: =SUM(M5:M12) -> 10142805 | N13: =M13/L13*100 -> 75.203203 | O13: =SUM(O5:O12) -> 13689506 | P13: =SUM(P5:P12) -> 7103927.6 | Q13: =P13/O13*100 -> 51.893236 | R13: =SUM(R5:R12) -> 14254541 | S13: =SUM(S5:S12) -> 12439123 | T13: =S13/R13*100 -> 87.264281 | U13: =SUM(U5:U12) -> 15739541 | V13: =SUM(V5:V12) -> 3093803.1 | W13: =V13/U13*100 -> 19.656247 | X13: =SUM(X5:X12) -> 15739541 | Y13: =SUM(Y5:Y12) -> 16839541
A14: EXPENDITURE PERFORMANCE, (2020-AUGUST 2022 & DRAFT 2023 COMPOSITE BUDGET ESTIMATES)
A15: A/C CODE | B15: EXPENDITURE ITEM | C15: 2017 eSTimates | D15: 2017 Actuals | E15: % Performance Against 2017 Actuals | F15: 2018 Estimates | G15: 2018 Actuals | H15: % Performance Against 2018 Actuals | I15: 2019 Estimates | J15: 2019 Actuals | K15: % Performance Against 2019 Actuals | L15: 2020 Estimates | M15: 2020 Actuals | N15: % Performance Against 2020 Actuals | O15: 2021 Estimates | P15: 2021 Actuals | Q15: % Performance Against 2021 Estimate | R15: 2022 Draft Estimates | S15: 2022 Actuals | T15: % Performance Against 2022 Estimate | U15: 2023 Approved Estimate as @ August 2022 | V15: Actuals as @ May. 2023 | W15: % Performance Against Est. | X15: 2023 Approved Estimate as per Estimate & contracts | Y15: 2023 Review
A16: 2111000 | B16: COMPENSATION OF EMPLOYEES | C16: 1194399 | D16: 360680.2 | E16: =D16/C16*100 -> 30.197631 | F16: 1461085 | G16: 310680.5 | H16: =G16/F16*100 -> 21.263684 | I16: ='[1]EXP-S'!C8 -> 1619965 | J16: 1939683.1 | K16: =J16/I16*100 -> 119.73611 | L16: ='[2]E-dtls'!F23 -> 2572621 | M16: =E_23_DTLS!D17 -> 2517118.2 | N16: =M16/L16*100 -> 97.842557 | O16: ='[1]EXP-S'!I8 -> 2129934 | P16: ='[2]E-dtls'!K23 -> 1466930 | Q16: =P16/O16*100 -> 68.872088 | R16: ='[2]E-dtls'!N23 -> 2458344 | S16: =E_23_DTLS!J17 -> 3579485.9 | T16: =S16/R16*100 -> 145.60558 | U16: =E_23_DTLS!L17 -> 2380215 | V16: =E_23_DTLS!M17 -> 1573659.9 | W16: =V16/U16*100 -> 66.114192 | X16: =E_23_DTLS!O17 -> 2380215 | Y16: =E_23_DTLS!P17 -> 2380215
A17: 2210100 | B17: USE OF GOODS AND SERVICES | C17: 3654348 | D17: 2519890.3 | E17: =D17/C17*100 -> 68.955948 | F17: 4141566 | G17: 2466055.6 | H17: =G17/F17*100 -> 59.544037 | I17: ='[1]EXP-S'!C26 -> 6541918 | J17: 5431634.4 | K17: =J17/I17*100 -> 83.028163 | L17: ='[2]E-dtls'!F135 -> 6806801 | M17: =E_23_DTLS!D121 -> 5543662.9 | N17: =M17/L17*100 -> 81.443 | O17: ='[1]EXP-S'!I26 -> 6564257 | P17: ='[2]E-dtls'!K135 -> 4099499.1 | Q17: =P17/O17*100 -> 62.451838 | R17: ='[2]E-dtls'!N135 -> 6112000 | S17: =E_23_DTLS!J121 -> 6736966.8 | T17: =S17/R17*100 -> 110.22524 | U17: =E_23_DTLS!L121 -> 6296740 | V17: =E_23_DTLS!M121 -> 1391290.4 | W17: =V17/U17*100 -> 22.095408 | X17: =E_23_DTLS!O121 -> 6296740 | Y17: =E_23_DTLS!P121 -> 7669241
A18: 3100000 | B18: CAPEX | C18: 3452296 | D18: 1245177.7 | E18: =D18/C18*100 -> 36.068104 | F18: 3519395 | G18: 424052.5 | H18: =G18/F18*100 -> 12.049017 | I18: 3037000 | J18: 1099116.8 | K18: =J18/I18*100 -> 36.190874 | L18: ='[2]E-dtls'!F152 -> 4107776 | M18: =E_23_DTLS!D136 -> 1870685.2 | N18: =M18/L18*100 -> 45.540097 | O18: ='[1]EXP-S'!I44 -> 4995315 | P18: ='[2]E-dtls'!K152 -> 1506574.1 | Q18: =P18/O18*100 -> 30.159742 | R18: ='[2]E-dtls'!N152 -> 5684197 | S18: =E_23_DTLS!J136 -> 761264.12 | T18: =S18/R18*100 -> 13.392641 | U18: 7062586 | V18: =E_23_DTLS!M136 -> 217775.58 | W18: =V18/U18*100 -> 3.0835105 | X18: =CAPEX_23!O65 -> 10320523 | Y18: =E_23_DTLS!P136 -> 6790085
A19: TOTAL EXPENDITURE | C19: =SUM(C16:C18) -> 8301043 | D19: =SUM(D16:D18) -> 4125748.2 | E19: =D19/C19*100 -> 49.701564 | F19: =SUM(F16:F18) -> 9122046 | G19: =SUM(G16:G18) -> 3200788.6 | H19: =G19/F19*100 -> 35.088494 | I19: =SUM(I16:I18) -> 11198883 | J19: =SUM(J16:J18) -> 8470434.3 | K19: =J19/I19*100 -> 75.636421 | L19: =SUM(L16:L18) -> 13487198 | M19: =SUM(M16:M18) -> 9931466.3 | N19: =M19/L19*100 -> 73.636246 | O19: =SUM(O16:O18) -> 13689506 | P19: =SUM(P16:P18) -> 7073003.3 | Q19: =P19/O19*100 -> 51.667337 | R19: =SUM(R16:R18) -> 14254541 | S19: =SUM(S16:S18) -> 11077717 | T19: =S19/R19*100 -> 77.713599 | U19: =SUM(U16:U18) -> 15739541 | V19: =SUM(V16:V18) -> 3182725.9 | W19: =V19/U19*100 -> 20.221212 | X19: =SUM(X16:X18) -> 18997478 | Y19: =SUM(Y16:Y18) -> 16839541
A20: BUDGET DEFICIT/SURPLUS | C20: =C13-C19 -> 0 | D20: =D13-D19 -> -1689933.9 | E20: 0 | F20: =F13-F19 -> 0 | G20: =G13-G19 -> 420084.1 | H20: 0 | I20: =I13-I19 -> 0 | J20: =J13-J19 -> 759065.02 | K20: 0 | L20: =L13-L19 -> 0 | M20: =M13-M19 -> 211338.57 | N20: 0 | O20: =O13-O19 -> 0 | P20: =P13-P19 -> 30924.372 | Q20: 0 | R20: =R13-R19 -> 0 | S20: =S13-S19 -> 1361405.9 | T20: 0 | U20: =U13-U19 -> 0 | V20: =V13-V19 -> -88922.8 | X20: =X13-X19 -> -3257937.1 | Y20: =Y13-Y19 -> 0.0029999986

Sheet R_23_DTLS
A1: ELLEMBELLE DISTRICT ASSEMBLY
A2: REVENUE PERFORMANCE DETAILS (2020-AUGUST 2022) AND 2023 PROPOSED REVENUE ESTIMATES
A3: NATURAL ACCOUNT | B3: REVENUE ITEMS | C3: 2020 Estimates | D3: 2020 Actuals | E3: % Performance Against 2020 Actuals | F3: 2021 Estimates | G3: Actuals 2021 | H3: % Performance Against 2021 Estimate | I3: 2022 Draft Estimates | J3: Actuals as @ Dec.. 2022 | K3: % Performance Against Dec. 2022 | L3: 2023 Approved Estimate as @ August 2022 | M3: Actuals as @ May 2023 | N3: % Performance Against Est. | O3: 2023 Approved Estimate as per Estimate & contracts | P3: 2023 Review
B4: RATES
A5: 1412022 | B5: Property Rate | C5: 2607000 | D5: 2608549.2 | E5: =D5/C5*100 -> 100.05942 | F5: 2700000 | G5: 2032551.6 | H5: =G5/F5*100 -> 75.279687 | I5: =[2]Rev_Just_22!F3 -> 2700000 | J5: 3374572.1 | K5: =J5/I5*100 -> 124.98415 | L5: 3800000 | M5: 0 | N5: =M5/L5*100 -> 0 | O5: =L5 -> 3800000 | P5: =L5 -> 3800000
A6: 1412023 | B6: Basic Rate | C6: 5500 | D6: 500 | E6: =D6/C6*100 -> 9.0909091 | F6: 5000 | G6: 317 | H6: =G6/F6*100 -> 6.34 | I6: =[2]Rev_Just_22!F4 -> 5000 | J6: 68 | K6: =J6/I6*100 -> 1.36 | L6: 5000 | M6: 3455 | N6: =M6/L6*100 -> 69.1 | O6: =L6 -> 5000 | P6: =L6 -> 5000
A7: 1412024 | B7: Unassessed Rate | C7: 27500 | D7: - | F7: 27500 | G7: 0 | H7: =G7/F7*100 -> 0 | I7: =[2]Rev_Just_22!F5 -> 27500 | J7: 0 | K7: =J7/I7*100 -> 0 | L7: 27500 | M7: 0 | N7: =M7/L7*100 -> 0 | O7: =L7 -> 27500 | P7: =L7 -> 27500
C8: =SUM(C5:C7) -> 2640000 | D8: =SUM(D5:D7) -> 2609049.2 | E8: =D8/C8*100 -> 98.827621 | F8: =SUM(F5:F7) -> 2732500 | G8: =SUM(G5:G7) -> 2032868.6 | H8: =G8/F8*100 -> 74.395922 | I8: =SUM(I5:I7) -> 2732500 | J8: =SUM(J5:J7) -> 3374640.1 | K8: =J8/I8*100 -> 123.50009 | L8: =SUM(L5:L7) -> 3832500 | M8: =SUM(M5:M7) -> 3455 | N8: =M8/L8*100 -> 0.090150033 | O8: =SUM(O5:O7) -> 3832500 | P8: =SUM(P5:P7) -> 3832500
A9: 13310 | B9: GRANTS
A10: 1331001 | B10: Central Govt.-GOG Paid Salaries | C10: 2009985 | D10: 2072471.4 | E10: =D10/C10*100 -> 103.1088 | F10: 2038974 | G10: 1217628.3 | H10: =G10/F10*100 -> 59.717696 | I10: =[2]Rev_Just_22!F9 -> 2548672 | J10: 3234849.6 | K10: =J10/I10*100 -> 126.92295 | L10: 2239782 | M10: 1433535.9 | N10: =M10/L10*100 -> 64.003366 | O10: =L10 -> 2239782 | P10: =L10 -> 2239782
A11: 1331002 | B11: DACF-Assembly | C11: 3640087 | D11: 2174360.5 | E11: =D11/C11*100 -> 59.73375 | F11: 3564374 | G11: 827425.83 | H11: =G11/F11*100 -> 23.213777 | I11: 4112940 | J11: 1863153.5 | K11: =J11/I11*100 -> 45.299797 | L11: 3962000 | M11: 276345.37 | N11: =M11/L11*100 -> 6.9748958 | O11: =L11 -> 3962000 | P11: =L11 -> 3962000
A12: 1331002 | B12: DACF-PWD | C12: 74287 | D12: 42374.7 | E12: =D12/C12*100 -> 57.041878 | F12: 110000 | G12: 25590.48 | H12: =G12/F12*100 -> 23.264073 | I12: 125000 | J12: 0 | K12: =J12/I12*100 -> 0 | L12: 160000 | M12: 0 | N12: =M12/L12*100 -> 0 | O12: =L12 -> 160000 | P12: =L12 -> 160000
A13: 1331003 | B13: DACF-MP | C13: 650000 | D13: 361412.27 | E13: =D13/C13*100 -> 55.601888 | F13: 600000 | G13: 294652.07 | H13: =G13/F13*100 -> 49.108678 | I13: =[2]Rev_Just_22!F11 -> 400000 | J13: 461077.15 | K13: =J13/I13*100 -> 115.26929 | L13: 512222 | M13: 0 | N13: =M13/L13*100 -> 0 | O13: =L13 -> 512222 | P13: =L13 -> 512222
A14: 1331008 | B14: Other Donors Support Transfers | C14: 134993 | D14: 474744.01 | E14: =D14/C14*100 -> 351.68046 | F14: 666761 | G14: 122686.46 | H14: =G14/F14*100 -> 18.400365 | I14: 96434 | J14: 288458.04 | K14: =J14/I14*100 -> 299.12483 | L14: 399537 | M14: 47294.33 | N14: =M14/L14*100 -> 11.837284 | O14: =L14 -> 399537 | P14: 1499537 | Q14: ↑
A15: 1331009 | B15: Goods and Services-Decentralied departments | C15: 67917 | D15: 72586.99 | E15: =D15/C15*100 -> 106.87603 | F15: 76087 | G15: 47279.66 | H15: =G15/F15*100 -> 62.138946 | I15: 221182 | J15: 0 | K15: =J15/I15*100 -> 0 | L15: 81000 | M15: 20636.51 | N15: =M15/L15*100 -> 25.477173 | O15: =L15 -> 81000 | P15: =L15 -> 81000
A16: 1331010 | B16: DACF-RFG_Capacity Building | C16: 69231 | D16: 64664.31 | E16: =D16/C16*100 -> 93.403692 | F16: 48856 | G16: 45859 | H16: =G16/F16*100 -> 93.865646 | I16: 45859 | J16: 45859 | K16: =J16/I16*100 -> 100 | L16: 55000 | M16: 0 | N16: =M16/L16*100 -> 0 | O16: =L16 -> 55000 | P16: =L16 -> 55000
A17: 1331011 | B17: DACF-RFG_Investment | C17: 1240698 | D17: 79238.77 | E17: =D17/C17*100 -> 6.3866283 | F17: 584454 | G17: 1066424 | H17: =G17/F17*100 -> 182.465 | I17: 904454 | J17: 1128639.3 | K17: =J17/I17*100 -> 124.78681 | L17: 1330000 | M17: 0 | N17: =M17/L17*100 -> 0 | O17: =L17 -> 1330000 | P17: =L17 -> 1330000
C18: =SUM(C10:C17) -> 7887198 | D18: =SUM(D10:D17) -> 5341853 | E18: =D18/C18*100 -> 67.728146 | F18: =SUM(F10:F17) -> 7689506 | G18: =SUM(G10:G17) -> 3647545.8 | H18: =G18/F18*100 -> 47.435372 | I18: =SUM(I10:I17) -> 8454541 | J18: =SUM(J10:J17) -> 7022036.5 | K18: =J18/I18*100 -> 83.05639 | L18: =SUM(L10:L17) -> 8739541 | M18: =SUM(M10:M17) -> 1777812.1 | N18: =M18/L18*100 -> 20.342168 | O18: =SUM(O10:O17) -> 8739541 | P18: =SUM(P10:P17) -> 9839541
A19: 1412000 | B19: LANDS & ROYALTIES
A20: 1412001 | B20: Mineral Royalties | C20: 1000000 | D20: 490203 | E20: =D20/C20*100 -> 49.0203 | F20: 1000000 | G20: 294584 | H20: =G20/F20*100 -> 29.4584 | I20: 1000000 | J20: 739232 | K20: =J20/I20*100 -> 73.9232 | L20: 800000 | M20: 0 | N20: =M20/L20*100 -> 0 | O20: =L20 -> 800000 | P20: =L20 -> 800000
A21: 1412003 | B21: Stool Land Revenue | C21: 800000 | D21: 657125 | E21: =D21/C21*100 -> 82.140625 | F21: 800000 | G21: 276838.02 | H21: =G21/F21*100 -> 34.604753 | I21: 600000 | J21: 715353 | K21: =J21/I21*100 -> 119.2255 | L21: 800000 | M21: 209848 | N21: =M21/L21*100 -> 26.231 | O21: =L21 -> 800000 | P21: =L21 -> 800000
A22: 1412004 | B22: Sale of Building Permit Jacket | C22: 4800 | D22: 8250 | E22: =D22/C22*100 -> 171.875 | F22: 20000 | G22: 1700 | H22: =G22/F22*100 -> 8.5 | I22: =[2]Rev_Just_22!F36 -> 20000 | J22: 21040 | K22: =J22/I22*100 -> 105.2 | L22: 20000 | M22: 14881.75 | N22: =M22/L22*100 -> 74.40875 | O22: =L22 -> 20000 | P22: =L22 -> 20000
A23: 1412007 | B23: Building Plans/Permit | C23: 162400 | D23: 113512.36 | E23: =D23/C23*100 -> 69.896773 | F23: 359500 | G23: 181308.6 | H23: =G23/F23*100 -> 50.433547 | I23: 371190 | J23: 65070 | K23: =J23/I23*100 -> 17.530106 | L23: 357243 | M23: 20103 | N23: =M23/L23*100 -> 5.6272621 | O23: =L23 -> 357243 | P23: =L23 -> 357243
A24: 1412009 | B24: Comm. Mast Permit | C24: 14000 | D24: 19200 | E24: =D24/C24*100 -> 137.14286 | F24: 143500 | G24: 6400 | H24: =G24/F24*100 -> 4.4599303 | I24: =[2]Rev_Just_22!F38 -> 120000 | J24: 39431.66 | K24: =J24/I24*100 -> 32.859717 | L24: 70000 | M24: 0 | N24: =M24/L24*100 -> 0 | O24: =L24 -> 70000 | P24: =L24 -> 70000
C25: =SUM(C20:C24) -> 1981200 | D25: =SUM(D20:D24) -> 1288290.4 | E25: =D25/C25*100 -> 65.02576 | F25: =SUM(F20:F24) -> 2323000 | G25: =SUM(G20:G24) -> 760830.62 | H25: =G25/F25*100 -> 32.752071 | I25: =SUM(I20:I24) -> 2111190 | J25: =SUM(J20:J24) -> 1580126.7 | K25: =J25/I25*100 -> 74.845308 | L25: =SUM(L20:L24) -> 2047243 | M25: =SUM(M20:M24) -> 244832.75 | N25: =M25/L25*100 -> 11.959145 | O25: =SUM(O20:O24) -> 2047243 | P25: =SUM(P20:P24) -> 2047243
A26: 1415000 | B26: RENT
A27: 1415008 | B27: Investment Income | C27: 5000 | D27: 2957.35 | E27: =D27/C27*100 -> 59.147 | F27: 0 | G27: 0 | H27: 0 | I27: =[2]Rev_Just_22!F42 -> 6000 | J27: 0 | K27: =J27/I27*100 -> 0 | L27: 30000 | M27: 0 | N27: =M27/L27*100 -> 0 | O27: =L27 -> 30000 | P27: =L27 -> 30000
A28: 1415038 | B28: Rental of Facilities | C28: 1500 | D28: 14467 | E28: =D28/C28*100 -> 964.46667 | F28: 4000 | G28: 3320 | H28: =G28/F28*100 -> 83 | I28: 4000 | J28: 0 | K28: =J28/I28*100 -> 0 | L28: 1000 | M28: 0 | N28: =M28/L28*100 -> 0 | O28: =L28 -> 1000 | P28: =L28 -> 1000
A29: 1415041 | B29: Housing Rent | C29: 2500 | D29: 1000 | E29: =D29/C29*100 -> 40 | F29: 2500 | G29: 900 | H29: =G29/F29*100 -> 36 | I29: =[2]Rev_Just_22!F48 -> 1460 | J29: 3120 | K29: =J29/I29*100 -> 213.69863 | L29: 1000 | M29: 9647 | N29: =M29/L29*100 -> 964.7 | O29: =L29 -> 1000 | P29: =L29 -> 1000
A30: 1415052 | B30: Markets and Stores Rentals | C30: 8000 | D30: 5765 | E30: =D30/C30*100 -> 72.0625 | F30: 6000 | G30: 7460 | H30: =G30/F30*100 -> 124.33333 | I30: 6000 | J30: 19782 | K30: =J30/I30*100 -> 329.7 | L30: 20000 | M30: 9110 | N30: =M30/L30*100 -> 45.55 | O30: =L30 -> 20000 | P30: =L30 -> 20000
C31: =SUM(C27:C30) -> 17000 | D31: =SUM(D27:D30) -> 24189.35 | E31: =D31/C31*100 -> 142.29029 | F31: =SUM(F27:F30) -> 12500 | G31: =SUM(G27:G30) -> 11680 | H31: =G31/F31*100 -> 93.44 | I31: =SUM(I27:I30) -> 17460 | J31: =SUM(J27:J30) -> 22902 | K31: =J31/I31*100 -> 131.16838 | L31: =SUM(L27:L30) -> 52000 | M31: =SUM(M27:M30) -> 18757 | N31: =M31/L31*100 -> 36.071154 | O31: =SUM(O27:O30) -> 52000 | P31: =SUM(P27:P30) -> 52000
A32: NATURAL ACCOUNT | B32: REVENUE ITEMS | C32: 2020 Estimates | D32: 2020 Actuals | E32: % Performance Against 2020 Actuals | F32: 2021 Estimates | G32: Actuals 2021 | H32: % Performance Against 2021 Estimate | I32: 2022 Draft Estimates | J32: Actuals as @ Dec.. 2022 | K32: % Performance Against Dec. 2022 | L32: 2023 Approved Estimate as @ August 2022 | M32: Actuals as @ May 2023 | N32: % Performance Against Est. | O32: 2023 Approved Estimate as per Estimate & contracts | P32: 2023 Review
A33: 1422000 | B33: LICENCES
A34: 1422003 | B34: Hawkers | C34: 1000 | D34: 850 | E34: =D34/C34*100 -> 85 | F34: 1250 | G34: 817 | H34: =G34/F34*100 -> 65.36 | I34: 1350 | J34: 0 | K34: =J34/I34*100 -> 0 | L34: 1500 | M34: 0 | N34: =M34/L34*100 -> 0 | O34: =L34 -> 1500 | P34: =L34 -> 1500
A35: 1422005 | B35: Chop Bars/Rest | C35: 6000 | D35: 4780 | E35: =D35/C35*100 -> 79.666667 | F35: 6000 | G35: 3605 | H35: =G35/F35*100 -> 60.083333 | I35: 4000 | J35: 1000 | K35: =J35/I35*100 -> 25 | L35: 4000 | M35: 450 | N35: =M35/L35*100 -> 11.25 | O35: =L35 -> 4000 | P35: =L35 -> 4000
A36: 1422009 | B36: Bakeries/Bakers | C36: 1200 | D36: 1105 | E36: =D36/C36*100 -> 92.083333 | F36: 1200 | G36: 1120 | H36: =G36/F36*100 -> 93.333333 | I36: 1200 | J36: 1250 | K36: =J36/I36*100 -> 104.16667 | L36: 1200 | M36: 1950 | N36: =M36/L36*100 -> 162.5 | O36: =L36 -> 1200 | P36: =L36 -> 1200
A37: 1422011 | B37: Artisian/Self Employed | C37: 15000 | D37: 13279 | E37: =D37/C37*100 -> 88.526667 | F37: 15000 | G37: 9726 | H37: =G37/F37*100 -> 64.84 | I37: 15000 | J37: 14437 | K37: =J37/I37*100 -> 96.246667 | L37: 30000 | M37: 4857 | N37: =M37/L37*100 -> 16.19 | O37: =L37 -> 30000 | P37: =L37 -> 30000
A38: 1422013 | B38: Sand and Stone Conts. License | C38: 1000 | D38: 790 | E38: =D38/C38*100 -> 79 | F38: 3000 | G38: 2630 | H38: =G38/F38*100 -> 87.666667 | I38: 3500 | J38: 0 | K38: =J38/I38*100 -> 0 | L38: 4000 | M38: 0 | N38: =M38/L38*100 -> 0 | O38: =L38 -> 4000 | P38: =L38 -> 4000
A39: 1422014 | B39: Charcoal / Firewood Dealers | C39: 500 | D39: 314 | E39: =D39/C39*100 -> 62.8 | F39: 500 | G39: 340 | H39: =G39/F39*100 -> 68 | I39: 500 | J39: 429 | K39: =J39/I39*100 -> 85.8 | L39: 500 | M39: 5000 | N39: =M39/L39*100 -> 1000 | O39: =L39 -> 500 | P39: =L39 -> 500
A40: 1422016 | B40: Lottery Business | C40: 800 | D40: 615 | E40: =D40/C40*100 -> 76.875 | F40: 800 | G40: 550 | H40: =G40/F40*100 -> 68.75 | I40: 800 | J40: 600 | K40: =J40/I40*100 -> 75 | L40: 800 | M40: 1500 | N40: =M40/L40*100 -> 187.5 | O40: =L40 -> 800 | P40: =L40 -> 800
...

Sheet E_23_DTLS
A1: ELLEMBELLE DISTRICT ASSEMBLY
A2: EXPENDITURE PERFORMANCE DETAILS (2020-AUGUST 2022) AND 2023 PROPOSED EXPENDITURE ESTIMATES
A3: NATURAL ACCOUNT | B3: EXPENDITURE ITEMS | C3: 2020 Estimates | D3: 2020 Actuals | E3: % Performance Against 2020 Actuals | F3: 2021 Estimates | G3: 2021 Actuals | H3: % Performance Against 2021 Estimate | I3: 2022 Draft Estimates | J3: Actuals as @ Dec. 2022 | K3: % Performance Against Dec. 2022 | L3: 2023 Approved Estimate as @ August 2022 | M3: Actuals as @ May. 2023 | N3: % Performance Against Est. | O3: 2023 Approved Estimate as per Actual Contract sums | P3: 2023 Review
A4: 2111001 | B4: Salary & Wages (Gov't) | C4: 2009985 | D4: 2072471.4 | E4: =D4/C4*100 -> 103.1088 | F4: 1731391 | G4: 1217628.3 | H4: =G4/F4*100 -> 70.326592 | I4: 2059355 | J4: 3234849.6 | K4: =J4/I4*100 -> 157.08072 | L4: 1907993 | M4: 1436395.7 | N4: =M4/L4*100 -> 75.283069 | O4: =L4 -> 1907993 | P4: =O4 -> 1907993
A5: 2111102 | B5: Salary & Wages (Assembly) | C5: 240000 | D5: 215669.5 | E5: =D5/C5*100 -> 89.862292 | F5: 204989 | G5: 186128.79 | H5: =G5/F5*100 -> 90.799404 | I5: 204989 | J5: 292276.4 | K5: =J5/I5*100 -> 142.5815 | L5: 274533 | M5: 71065.37 | N5: =M5/L5*100 -> 25.885912 | O5: =L5 -> 274533 | P5: =O5 -> 274533
C6: =SUM(C4:C5) -> 2249985 | D6: =SUM(D4:D5) -> 2288141 | E6: =D6/C6*100 -> 101.69583 | F6: =SUM(F4:F5) -> 1936380 | G6: =SUM(G4:G5) -> 1403757.1 | H6: =G6/F6*100 -> 72.493884 | I6: =SUM(I4:I5) -> 2264344 | J6: =SUM(J4:J5) -> 3527126 | K6: =J6/I6*100 -> 155.76812 | L6: =SUM(L4:L5) -> 2182526 | M6: =SUM(M4:M5) -> 1507461 | N6: =M6/L6*100 -> 69.069557 | O6: =SUM(O4:O5) -> 2182526 | P6: =SUM(P4:P5) -> 2182526
A7: 2111200 | B7: OTHER ALLOWANCES
A8: 2111208 | B8: Funeral Grants | C8: 21000 | D8: 13462 | E8: =D8/C8*100 -> 64.104762 | F8: 10000 | G8: 10922 | H8: =G8/F8*100 -> 109.22 | I8: 10000 | J8: 10092.97 | K8: =J8/I8*100 -> 100.9297 | L8: 30000 | M8: 0 | N8: =M8/L8*100 -> 0 | O8: =L8 -> 30000 | P8: =O8 -> 30000
A9: 2111238 | B9: Overtime Allowance | C9: 12000 | D9: 5000 | E9: =D9/C9*100 -> 41.666667 | F9: 12000 | G9: 6000 | H9: =G9/F9*100 -> 50 | I9: 12000 | J9: 0 | K9: =J9/I9*100 -> 0 | L9: 12000 | M9: 0 | N9: =M9/L9*100 -> 0 | O9: =L9 -> 12000 | P9: =O9 -> 12000
A10: 2111243 | B10: Transfer Grant | C10: 80636 | D10: 60924 | E10: =D10/C10*100 -> 75.554343 | F10: 58000 | G10: 41972.18 | H10: =G10/F10*100 -> 72.365828 | I10: 45000 | J10: 11951.5 | K10: =J10/I10*100 -> 26.558889 | L10: 60000 | M10: 16000 | N10: =M10/L10*100 -> 26.666667 | O10: =L10 -> 60000 | P10: =O10 -> 60000
A11: 2111249 | B11: Responsibility Allowance (PM) | C11: 6000 | D11: 6000 | E11: =D11/C11*100 -> 100 | F11: 6000 | G11: 6000 | H11: =G11/F11*100 -> 100 | I11: 6000 | K11: =J11/I11*100 -> 0 | L11: 6000 | M11: 0 | N11: =M11/L11*100 -> 0 | O11: =L11 -> 6000 | P11: =O11 -> 6000
C12: =SUM(C8:C11) -> 119636 | D12: =SUM(D8:D11) -> 85386 | E12: =D12/C12*100 -> 71.371494 | F12: =SUM(F8:F11) -> 86000 | G12: =SUM(G8:G11) -> 64894.18 | H12: =G12/F12*100 -> 75.458349 | I12: =SUM(I8:I11) -> 73000 | J12: =SUM(J8:J11) -> 22044.47 | K12: =J12/I12*100 -> 30.197904 | L12: =SUM(L8:L11) -> 108000 | M12: =SUM(M8:M11) -> 16000 | N12: =M12/L12*100 -> 14.814815 | O12: =SUM(O8:O11) -> 108000 | P12: =SUM(P8:P11) -> 108000
A13: 2121000 | B13: SOCIAL CONTRIBUTIONS
A14: 2121001 | B14: Employers SSF Contributions | C14: 50000 | D14: 39591.21 | E14: =D14/C14*100 -> 79.18242 | F14: 50000 | G14: 12078.75 | H14: =G14/F14*100 -> 24.1575 | I14: 50000 | J14: 30315.46 | K14: =J14/I14*100 -> 60.63092 | L14: 35689 | M14: 22198.86 | N14: =M14/L14*100 -> 62.200846 | O14: =L14 -> 35689 | P14: =O14 -> 35689
A15: 2121004 | B15: Ex-Gratia | C15: 110000 | D15: 104000 | E15: =D15/C15*100 -> 94.545455 | F15: 54000 | G15: 1800 | H15: =G15/F15*100 -> 3.3333333 | I15: 26000 | J15: 0 | K15: =J15/I15*100 -> 0 | L15: 54000 | M15: 28000 | N15: =M15/L15*100 -> 51.851852 | O15: =L15 -> 54000 | P15: =O15 -> 54000
C16: =SUM(C14:C15) -> 160000 | D16: =SUM(D14:D15) -> 143591.21 | E16: =D16/C16*100 -> 89.744506 | F16: =SUM(F14:F15) -> 104000 | G16: =SUM(G14:G15) -> 13878.75 | H16: =G16/F16*100 -> 13.344952 | I16: =SUM(I14:I15) -> 76000 | J16: =SUM(J14:J15) -> 30315.46 | K16: =J16/I16*100 -> 39.888763 | L16: =SUM(L14:L15) -> 89689 | M16: =SUM(M14:M15) -> 50198.86 | N16: =M16/L16*100 -> 55.969918 | O16: =SUM(O14:O15) -> 89689 | P16: =SUM(P14:P15) -> 89689
B17: Compensation of Employees | C17: =C16+C12+C6 -> 2529621 | D17: =D16+D12+D6 -> 2517118.2 | E17: =D17/C17*100 -> 99.505743 | F17: =F16+F12+F6 -> 2126380 | G17: =G16+G12+G6 -> 1482530 | H17: =G17/F17*100 -> 69.720841 | I17: =I16+I12+I6 -> 2413344 | J17: =J16+J12+J6 -> 3579485.9 | K17: =J17/I17*100 -> 148.32058 | L17: =L16+L12+L6 -> 2380215 | M17: =M16+M12+M6 -> 1573659.9 | N17: =M17/L17*100 -> 66.114192 | O17: =O16+O12+O6 -> 2380215 | P17: =P16+P12+P6 -> 2380215
A19: 2210100 | B19: MATERIALS & OFFICE SUPPLIES
A20: 2210101 | B20: Printed Material & Stationery | C20: 100000 | D20: 89976.87 | E20: =D20/C20*100 -> 89.97687 | F20: 69000 | G20: 92424.25 | H20: =G20/F20*100 -> 133.94819 | I20: 33000 | J20: 67440.17 | K20: =J20/I20*100 -> 204.36415 | L20: 182780 | M20: 55859.48 | N20: =M20/L20*100 -> 30.561046 | O20: =L20 -> 182780 | P20: =O20 -> 182780
A21: 2210102 | B21: Office Facilities/Supplies/Accessories | C21: 60000 | D21: 57330.71 | E21: =D21/C21*100 -> 95.551183 | F21: 40000 | G21: 48908.1 | H21: =G21/F21*100 -> 122.27025 | I21: 40000 | J21: 46872.5 | K21: =J21/I21*100 -> 117.18125 | L21: 46612 | M21: 0 | N21: =M21/L21*100 -> 0 | O21: =L21 -> 46612 | P21: =O21 -> 46612
A22: 2210103 | B22: Refreshment | C22: 40000 | D22: 38445 | E22: =D22/C22*100 -> 96.1125 | F22: 64000 | G22: 20919 | H22: =G22/F22*100 -> 32.685938 | I22: 30000 | J22: 0 | K22: =J22/I22*100 -> 0 | L22: 335500 | M22: 47106 | N22: =M22/L22*100 -> 14.040537 | O22: =L22 -> 335500 | P22: =O22 -> 335500
A23: 2210105 | B23: Drug & Medical Equipments/COVID | C23: 58000 | D23: 56546.6 | E23: =D23/C23*100 -> 97.494138 | F23: 1500 | G23: 990 | H23: =G23/F23*100 -> 66 | I23: 50000 | J23: 0 | K23: =J23/I23*100 -> 0 | L23: 50000 | M23: 0 | N23: =M23/L23*100 -> 0 | O23: =L23 -> 50000 | P23: =O23 -> 50000
A24: 2210107 | B24: Electrical Accessories | C24: 5000 | D24: 3008.1 | E24: =D24/C24*100 -> 60.162 | F24: 6500 | G24: 3244 | H24: =G24/F24*100 -> 49.907692 | I24: 5000 | J24: 441 | K24: =J24/I24*100 -> 8.82 | L24: 1000 | M24: 0 | N24: =M24/L24*100 -> 0 | O24: =L24 -> 1000 | P24: =O24 -> 1000
A25: 2210108 | B25: Construction Material | C25: 1310000 | D25: 1299979.7 | E25: 198.50029 | F25: 1119910 | G25: 553721.29 | H25: 96.111676 | I25: 243000 | J25: 18733.67 | K25: 52.325581 | L25: 62500 | M25: 0 | N25: =M25/L25*100 -> 0 | O25: =L25 -> 62500 | P25: =O25 -> 62500
A26: 2210115 | B26: Text Books and Library Books | C26: 4520 | D26: 0 | E26: =D26/C26*100 -> 0 | F26: 2000 | G26: 0 | H26: =G26/F26*100 -> 0 | I26: 2000 | J26: 0 | K26: =J26/I26*100 -> 0 | L26: 2000 | M26: 0 | N26: =M26/L26*100 -> 0 | O26: =L26 -> 2000 | P26: =O26 -> 2000
A27: 2210117 | B27: Teaching & Learning Materials | C27: 1500 | D27: 0 | E27: =D27/C27*100 -> 0 | F27: 1500 | G27: 0 | H27: =G27/F27*100 -> 0 | I27: 1500 | J27: 0 | K27: =J27/I27*100 -> 0 | L27: 1500 | M27: 0 | N27: =M27/L27*100 -> 0 | O27: =L27 -> 1500 | P27: =O27 -> 1500
A28: 2210118 | B28: Sports,Recreational & Cultural Market | C28: 70000 | D28: 0 | E28: =D28/C28*100 -> 0 | F28: 20000 | G28: 0 | H28: =G28/F28*100 -> 0 | I28: 150000 | J28: 0 | K28: =J28/I28*100 -> 0 | L28: 140000 | M28: 0 | N28: =M28/L28*100 -> 0 | O28: =L28 -> 140000 | P28: 80000 | Q28: ↓
A29: 2210119 | B29: Household Items | C29: 6000 | D29: 5622.5 | E29: =D29/C29*100 -> 93.708333 | F29: 7000 | G29: 2200 | H29: =G29/F29*100 -> 31.428571 | I29: 3000 | J29: 0 | K29: =J29/I29*100 -> 0 | L29: 3000 | M29: 0 | N29: =M29/L29*100 -> 0 | O29: =L29 -> 3000 | P29: =O29 -> 3000
A30: 2210120 | B30: Purchase of Tools & Equipment | C30: 43000 | D30: 39000 | E30: =D30/C30*100 -> 90.697674 | F30: 6000 | G30: 6700 | H30: =G30/F30*100 -> 111.66667 | I30: 3000 | J30: 0 | K30: =J30/I30*100 -> 0 | L30: 43000 | M30: 0 | N30: =M30/L30*100 -> 0 | O30: =L30 -> 43000 | P30: =O30 -> 43000
A31: 2210121 | B31: Clothing and Uniform | C31: 18000 | D31: 12000 | E31: =D31/C31*100 -> 66.666667 | F31: 18000 | G31: 0 | H31: =G31/F31*100 -> 0 | I31: 18000 | J31: 0 | K31: =J31/I31*100 -> 0 | L31: 318000 | M31: 0 | N31: =M31/L31*100 -> 0 | O31: =L31 -> 318000 | P31: =O31 -> 318000
A32: 2210122 | B32: Value Books | C32: 33000 | D32: 13850 | E32: =D32/C32*100 -> 41.969697 | F32: 25000 | G32: 16500 | H32: =G32/F32*100 -> 66 | I32: 15000 | J32: 19118 | K32: =J32/I32*100 -> 127.45333 | L32: 15000 | M32: 0 | N32: =M32/L32*100 -> 0 | O32: =L32 -> 15000 | P32: =O32 -> 15000
B33: Sub-total | C33: =SUM(C20:C32) -> 1749020 | D33: =SUM(D20:D32) -> 1615759.5 | E33: =D33/C33*100 -> 92.380846 | F33: =SUM(F20:F32) -> 1380410 | G33: =SUM(G20:G32) -> 745606.64 | H33: =G33/F33*100 -> 54.013419 | I33: =SUM(I20:I32) -> 593500 | J33: =SUM(J20:J32) -> 152605.34 | K33: =J33/I33*100 -> 25.712778 | L33: =SUM(L20:L32) -> 1200892 | M33: =SUM(M20:M32) -> 102965.48 | N33: =M33/L33*100 -> 8.5740833 | O33: =SUM(O20:O32) -> 1200892 | P33: =SUM(P20:P32) -> 1140892
A34: NATURAL ACCOUNT | B34: EXPENDITURE ITEMS | C34: 2020 Estimates | D34: 2020 Actuals | E34: % Performance Against 2020 Actuals | F34: 2021 Estimates | G34: 2021 Actuals | H34: % Performance Against 2021 Estimate | I34: 2022 Draft Estimates | J34: Actuals as @ Dec. 2022 | K34: % Performance Against August 2022 | L34: 2023 Draft Estimates | M34: Actuals as @ May. 2023 | N34: % Performance Against Est. | O34: 2023 Approved Estimate as per Actual Contract sums | P34: 2023 Review
A35: 2210200 | B35: UTILITIES
A36: 2210201 | B36: Electricity Charges | C36: 36040 | D36: 16609.41 | E36: =D36/C36*100 -> 46.086043 | F36: 15000 | G36: 19693.98 | H36: =G36/F36*100 -> 131.2932 | I36: 4000 | J36: 26113.93 | K36: =J36/I36*100 -> 652.84825 | L36: 30000 | M36: 2985.62 | N36: =M36/L36*100 -> 9.9520667 | O36: =L36 -> 30000 | P36: =O36 -> 30000
A37: 2210202 | B37: Water Charges | C37: 310000 | D37: 306706.67 | E37: =D37/C37*100 -> 98.937635 | F37: 5000 | G37: 75580.98 | H37: =G37/F37*100 -> 1511.6196 | I37: 120000 | J37: 265088.18 | K37: =J37/I37*100 -> 220.90682 | L37: 6000 | M37: 2194.6 | N37: =M37/L37*100 -> 36.576667 | O37: =L37 -> 6000 | P37: =O37 -> 6000
A38: 2210203 | B38: Telecommunications | C38: 33000 | D38: 2950 | E38: =D38/C38*100 -> 8.9393939 | F38: 30000 | G38: 2450 | H38: =G38/F38*100 -> 8.1666667 | I38: 15000 | J38: 4000 | K38: =J38/I38*100 -> 26.666667 | L38: 18000 | M38: 2450 | N38: =M38/L38*100 -> 13.611111 | O38: =L38 -> 18000 | P38: =O38 -> 18000
A39: 2210204 | B39: Postal Charges | C39: 5000 | D39: 4365 | E39: =D39/C39*100 -> 87.3 | F39: 15000 | G39: 1186 | H39: =G39/F39*100 -> 7.9066667 | I39: 10000 | J39: 1950 | K39: =J39/I39*100 -> 19.5 | L39: 2000 | M39: 0 | N39: =M39/L39*100 -> 0 | O39: =L39 -> 2000 | P39: =O39 -> 2000
A40: 2210205 | B40: Sanitation Charges | C40: 840000 | D40: 725646.35 | E40: =D40/C40*100 -> 86.38647 | F40: 760000 | G40: 185303.77 | H40: =G40/F40*100 -> 24.382075 | I40: 560000 | J40: 967167.43 | K40: =J40/I40*100 -> 172.70847 | L40: 1042000 | M40: 83000 | N40: =M40/L40*100 -> 7.9654511 | O40: =L40 -> 1042000 | P40: =O40 -> 1042000
B41: Sub-total | C41: =SUM(C36:C40) -> 1224040 | D41: =SUM(D36:D40) -> 1056277.4 | E41: =D41/C41*100 -> 86.294356 | F41: =SUM(F36:F40) -> 825000 | G41: =SUM(G36:G40) -> 284214.73 | H41: =G41/F41*100 -> 34.45027 | I41: =SUM(I36:I40) -> 709000 | J41: =SUM(J36:J40) -> 1264319.5 | K41: =J41/I41*100 -> 178.32434 | L41: =SUM(L36:L40) -> 1098000 | M41: =SUM(M36:M40) -> 90630.22 | N41: =M41/L41*100 -> 8.2541184 | O41: =SUM(O36:O40) -> 1098000 | P41: =SUM(P36:P40) -> 1098000
...

Sheet CAPEX_23
A1: CHART OF ACCOUNT | B1: PROJECT DESCRIPTION | C1: LOCATION | D1: CONTRCTOR / CONSULTANT | E1: FUND SOURCE | F1: CONTRACT SUM (GH₵) 1 | G1: DATE OF AWARD | H1: EXPECTED DATE OF COMPLETION | I1: EXPENDITURE TO DATE | J1: OUTSTANDING BALANCE | K1: % OF COMPLETION | L1: IMPLEMENTATION STATUS | M1: ALLOCATION FOR 2023 (GH¢) | N1: CONTRACT SUM (GH₵) 2 | O1: 2023 APPROVED EST / ACT. CONTRACT SUM | P1: EXPENDITURE TILL DATE | Q1: 2023 REVIEW / OUTSTANDING
A2: WIP-TOILETS
A3: 3111353 | B3: Construction of 2 No. 6 Seater Water Closet Toilets with mechanized borehole | C3: Asanda, Baseke | D3: Sekamet Infinity Ltd | E3: DACF-RFG | F3: 460000 | G3: 45029 | H3: 45182 | I3: 0 | J3: 460000 | K3: Baseke Awarded | L3: New | M3: 460000 | N3: 341769.14 | O3: 341769.14 | P3: 0 | Q3: 307592.23
A4: 3111353 | B4: Construction of 1 No. 6 Seater Water Closet Toilets with mechanized borehole | C4: Asanda, | D4: Attans Enterprise Ltd. | E4: DACF | F4: 0 | G4: 45029 | H4: 45182 | I4: 0 | J4: 0 | K4: Yet to be awarded | L4: New | M4: 0 | N4: 342438.64 | O4: 291072.84 | P4: 51365.8 | Q4: 256828.97
A5: 3111256 | B5: Costruction of 1 No. 6 Unit Classroom Block, Office, Store, ICT,,Staff Common Room with 6-Seater Water Closet | C5: Esiama SDA Primary School | D5: Projekt 1 Ltd | E5: DACF | F5: 663953.85 | G5: 43596 | H5: 43956 | I5: 498820.05 | J5: =F5-I5 -> 165133.8 | K5: 0.95 | L5: Ongoing | M5: =J5 -> 165133.8 | N5: 685895.72 | O5: 187075.67 | P5: 634177.18 | Q5: 51718.536
A6: 3111353 | B6: Construction of 1No.12-Seater Water Closet | C6: Awiebo | D6: Joethur Limited | E6: DACF | F6: 166443.38 | G6: 43596 | H6: 43954 | I6: =24966.5+41102.2+48610.47 -> 114679.17 | J6: =F6-I6 -> 51764.21 | K6: 1 | L6: Completed | M6: =J6 -> 51764.21 | N6: 0 | O6: 51764.21 | P6: 166443.38 | Q6: PAID
A7: 3111353 | B7: Construction of 1 No. 16 seater W/C Toilet | C7: Aiyinase | D7: Nana Kofi Blankson Construction | E7: DACF | F7: 94386.61 | G7: 42166 | H7: 42438 | I7: 75760.61 | J7: =F7-I7 -> 18626 | K7: 1 | L7: Completed and in Use | M7: =J7 -> 18626 | N7: 0 | O7: 18626 | P7: 94386.61 | Q7: PAID
A8: 3111353 | B8: Construction of 1 No. 16 Aqua Privy Toilet | C8: Tandan | D8: P. Amponsah Ent. | E8: DACF | F8: 95323.06 | G8: 42166 | H8: 42438 | I8: 83276.58 | J8: =F8-I8 -> 12046.48 | K8: 1 | L8: Completed | M8: =J8 -> 12046.48 | N8: 0 | O8: 12046.48 | P8: 95323.06 | Q8: PAID
B9: Sub-total A | F9: =SUM(F3:F8) -> 1480106.9 | I9: =SUM(I3:I8) -> 772536.41 | J9: =SUM(J3:J8) -> 707570.49 | M9: =SUM(M3:M8) -> 707570.49 | O9: =SUM(O3:O8) -> 902354.34 | P9: =SUM(P3:P8) -> 1041696 | Q9: =SUM(Q3:Q8) -> 616139.73
A10: 3111353 | B10: Construction of 1 No. 10 Seater Water Closet with Mechanized Borehole | C10: Kikam | D10: 17 Katona Company Ltd. | E10: MDF | F10: 112500 | G10: 45029 | H10: 45182 | I10: 0 | J10: 112500 | K10: Yet to be awarded | L10: New | M10: 37500 | N10: 361941.69 | O10: 325747.52 | P10: 0 | Q10: 325747.52
B11: Construction of 1 No. 10 Seater Water Closet with Mechanized Borehole | C11: Esiama | D11: Zong-yin Company Ltd | E11: MDF | F11: 112500 | G11: 45029 | H11: 45182 | I11: 0 | J11: 112500 | K11: Awarded | L11: New | M11: 37500 | N11: 360905.51 | O11: 324814.96 | P11: 54,135.83 released | Q11: 324814.96
B12: Construction of 1 No. 10 Seater Water Closet with Mechanized Borehole | C12: Kamgbunli | D12: Abera Construction Ltd | E12: MDF | F12: 198117 | G12: 45029 | H12: 45182 | I12: 0 | J12: 198117 | K12: Awarded | L12: New | M12: 69398.5 | N12: 365953.54 | O12: 329358.19 | P12: 0 | Q12: 329358.19
B13: Construction of 1 No. 10 Seater Water Closet with Mechanized Borehole | C13: Aiyinase | D13: Jacoa Construction Ltd | E13: MDF | F13: 112500 | G13: 45029 | H13: 45182 | I13: 0 | J13: 112500 | K13: Awarded | L13: New | M13: 37500 | N13: 361763.5 | O13: 325587.15 | P13: 0 | Q13: 325587.15
B14: Construction of 1 No. 10 Seater Water Closet with Mechanized Borehole | C14: Nvuma | D14: Sunnydale Ltd | E14: MDF | F14: 112500 | G14: 45029 | H14: 45182 | I14: 0 | J14: 112500 | K14: Yet to be awarded | L14: New | M14: 37500 | N14: 364134.56 | O14: 327721.1 | P14: 0 | Q14: 327721.1
B15: Construction of 1 No. 10 Seater Water Closet with Mechanized Borehole | C15: Edwakpole | D15: Attans Enterprise Ltd. | E15: MDF | F15: 198117 | G15: 45029 | H15: 45182 | I15: 0 | J15: 198117 | K15: Awarded | L15: New | M15: 69398.5 | N15: 363741.1 | O15: 327366.99 | P15: 54,561.17 released | Q15: 327366.99
B16: Sub-total B | F16: =SUM(F10:F15) -> 846234 | I16: =SUM(I10:I15) -> 0 | J16: =SUM(J10:J15) -> 846234 | M16: =SUM(M10:M15) -> 288797 | N16: =SUM(N10:N15) -> 2178439.9 | O16: =SUM(O10:O15) -> 1960595.9 | P16: =SUM(P10:P15) -> 0 | Q16: =SUM(Q10:Q15) -> 1960595.9
B17: Sub-total C | F17: =F16+F9 -> 2326340.9 | I17: =I16+I9 -> 772536.41 | J17: =J16+J9 -> 1553804.5 | M17: =M16+M9 -> 996367.49 | N17: =N16+N9 -> 2178439.9 | O17: =O16+O9 -> 2862950.2 | P17: =P16+P9 -> 1041696 | Q17: =Q16+Q9 -> 2576735.6
A18: WIP-HEALTH CENTERS
A19: 3111252 | B19: Construction of Chps Compound | C19: Aluku | D19: Joethur Limited | E19: DACF | F19: 285007.38 | G19: 14/04/2020 | H19: 14/08/2020 | I19: 144461.35 | J19: =F19-I19 -> 140546.03 | K19: 0.65 | L19: On-going | M19: =J19 -> 140546.03 | N19: 314702.22 | O19: 170240.87 | P19: 144461.35 | Q19: 153216.78
A20: 3111252 | B20: Construction of Chps Compound | C20: Azulenoanu | D20: Axiles Construction Works | E20: DACF | F20: 281450.64 | G20: 14/04/2020 | H20: 14/08/2020 | I20: 274307.4 | J20: =F20-I20 -> 7143.24 | K20: 1 | L20: Completed and in Use | M20: =J20 -> 7143.24 | N20: =F20 -> 281450.64 | O20: 7143.24 | P20: =I20 -> 274307.4 | Q20: PAID
B21: Sub-total | F21: =SUM(F19:F20) -> 566458.02 | I21: =SUM(I19:I20) -> 418768.75 | J21: =SUM(J19:J20) -> 147689.27 | M21: =SUM(M19:M20) -> 147689.27 | N21: =SUM(N19:N20) -> 596152.86 | O21: =SUM(O19:O20) -> 177384.11 | P21: =SUM(P19:P20) -> 418768.75 | Q21: =SUM(Q19:Q20) -> 153216.78
A22: CHART OF ACCOUNT | B22: PROJECT DESCRIPTION | C22: LOCATION | D22: CONTRCTOR / CONSULTANT | E22: FUND SOURCE | F22: CONTRACT SUM (GH₵) 1 | G22: DATE OF AWARD | H22: EXPECTED DATE OF COMPLETION | I22: EXPENDITURE TO DATE | J22: OUTSTANDING BALANCE | K22: % OF COMPLETION | L22: IMPLEMENTATION STATUS | M22: ALLOCATION FOR 2023 (GH¢) | N22: CONTRACT SUM (GH₵) 2 | O22: 2023 APPROVED EST / ACT. CONTRACT SUM | P22: EXPENDITURE TILL DATE | Q22: 2023 REVIEW / OUTSTANDING
A23: WIP-SCHOOL BUILDINGS
A24: 3111256 | B24: Construction of 1No.3-Unit Classroom Block, Office and Store with Ancillary Facilities | C24: Awiaso. | D24: Macbabs Investments | E24: DACF | F24: 263243.31 | G24: 43596 | H24: 43954 | I24: 140187.31 | J24: =F24-I24 -> 123056 | K24: 1 | L24: On-going | M24: =J24 -> 123056 | N24: =F24 -> 263243.31 | O24: 123056 | P24: 236827.57 | Q24: PAID
A25: 3111256 | B25: Costruction of 1 No. 3 Unit Classroom Block, Office, Store, ICT,,Staff Common Room | C25: Awiebo | D25: Joerica co. Ltd | E25: DACF | F25: 385532.23 | G25: 43596 | H25: 43954 | I25: 331331.03 | J25: =F25-I25 -> 54201.2 | K25: 1 | L25: Ongoing | M25: =J25 -> 54201.2 | N25: =F25 -> 385532.23 | O25: 54201.2 | P25: 382888.1 | Q25: PAID
A26: 3111256 | B26: Costruction of 1 No. 3 Unit Classroom Block, Office, Store, ICT,,Staff Common Room and | C26: Nvelesolo | D26: John Jones Construction limited | E26: DACF | F26: 333246.21 | G26: 14/8/18 | H26: 43533 | I26: 314331.15 | J26: =F26-I26 -> 18915.06 | K26: 1 | L26: Ongoing | M26: =J26 -> 18915.06 | N26: =F26 -> 333246.21 | O26: 18915.06 | P26: =I26 -> 314331.15 | Q26: 17023.554
A27: 3111256 | B27: Construction of 1No. Three (3) unit Classroom Block with office and store ,ICT Center,Staff Common room | C27: Salman | D27: Zornambay Company limited | E27: MDF | F27: 375000 | G27: 16/8/19 | H27: 43533 | I27: =53487.38+45183.95+35150.05+126834.91 -> 260656.29 | J27: =F27-I27 -> 114343.71 | K27: 0.8 | L27: On-going | M27: =J27 -> 114343.71 | N27: =F27 -> 375000 | O27: 114343.71 | P27: =I27 -> 260656.29 | Q27: 102909.34
A28: 3111256 | B28: Construction of 1No. Three (3) unit Classroom Block with office and store ,ICT Center,Staff Common room | C28: Basake | D28: Joerica co. Ltd | E28: MDF | F28: 344081.19 | G28: 14/8/18 | H28: 43533 | I28: =51124.66+85323.3+52608.41+36841.31+65880.57 -> 291778.25 | J28: =F28-I28 -> 52302.94 | K28: 1 | L28: Complete | M28: =J28 -> 52302.94 | N28: =F28 -> 344081.19 | O28: 52302.94 | P28: =I28 -> 291778.25 | Q28: 47072.646
A29: 3111256 | B29: Construction of 1No. Three (3) unit Classroom Block with office and store ,ICT Center,Staff Common room | C29: Bomoakpole | D29: US Global Company Limited | E29: MDF | F29: 344144.93 | G29: 14/8/18 | H29: 43533 | I29: =51129.66+83769.72+69185.61+89714.96 -> 293799.95 | J29: =F29-I29 -> 50344.98 | K29: 1 | L29: Complete | M29: =J29 -> 50344.98 | N29: =F29 -> 344144.93 | O29: 50344.98 | P29: =I29 -> 293799.95 | Q29: PAID
B30: Sub-total | F30: =SUM(F24:F29) -> 2045247.9 | I30: =SUM(I24:I29) -> 1632084 | J30: =SUM(J24:J29) -> 413163.89 | M30: =SUM(M24:M29) -> 413163.89 | N30: =SUM(N24:N29) -> 2045247.9 | O30: =SUM(O24:O29) -> 413163.89 | P30: =SUM(P24:P29) -> 1780281.3 | Q30: =SUM(Q24:Q29) -> 167005.54
A31: SLAUGHTER HOUSE
A32: 3111206 | B32: Construction of 1No. Slaughter House | C32: Aiyinase | E32: IGF | F32: 130000 | I32: 0 | K32: Yet to be awarded | L32: New | M32: =F32 -> 130000 | N32: =M32 -> 130000 | O32: 130000 | P32: 0 | Q32: 44043.62
A33: WIP-MARKETS
A34: 3111354 | B34: Construction of 3No. Market Shed | C34: Adubrim | D34: Jeorica Company Ltd | E34: IGF | F34: 260582.18 | G34: 14/04/2020 | H34: 14/07/2020 | I34: 193587.33 | J34: =F34-I34 -> 66994.85 | K34: 1 | L34: On-going | M34: =J34 -> 66994.85 | N34: =F34 -> 260582.18 | O34: 0 | P34: 260582.18 | Q34: PAID
A35: 3111354 | B35: Construction of 1 No. 1Unit Modern Lockable Fish Market with 3 Handwashing facilities, terazzo floored, ceiling and 4-seater water closet toilet | C35: Aiyinase | D35: Sekamet Infinity Ltd | E35: DACF-RFG | F35: 500000 | G35: 45029 | H35: 45182 | I35: 0 | J35: 0 | K35: Yet to be awarded | L35: New | M35: 500000 | N35: 657519.39 | O35: 657519.39 | P35: 0 | Q35: 591767.45
A36: 3111354 | B36: Construction of 1 No. 3-Unit Market Sheds with 2 No. Urinals | C36: Nkroful | D36: Sekamet Infinity Ltd | E36: DACF-RFG | F36: 370000 | G36: 45029 | H36: 45182 | I36: 0 | J36: 0 | K36: Yet to be awarded | L36: New | M36: 370000 | N36: 458334.45 | O36: 458334.45 | P36: 68750.17 | Q36: 350625.85
B37: Sub-total | F37: =SUM(F34:F36) -> 1130582.2 | I37: =SUM(I34:I36) -> 193587.33 | J37: =SUM(J34:J36) -> 66994.85 | M37: =SUM(M34:M36) -> 936994.85 | N37: =SUM(N34:N36) -> 1376436 | O37: =SUM(O34:O36) -> 1115853.8 | P37: =SUM(P34:P36) -> 329332.35 | Q37: =SUM(Q34:Q36) -> 942393.3
A38: CHART OF ACCOUNT | B38: PROJECT DESCRIPTION | C38: LOCATION | D38: CONTRCTOR / CONSULTANT | E38: FUND SOURCE | F38: CONTRACT SUM (GH₵) 1 | G38: DATE OF AWARD | H38: EXPECTED DATE OF COMPLETION | I38: EXPENDITURE TO DATE | J38: OUTSTANDING BALANCE | K38: % OF COMPLETION | L38: IMPLEMENTATION STATUS | M38: ALLOCATION FOR 2023 (GH¢) | N38: CONTRACT SUM (GH₵) 2 | O38: 2023 APPROVED EST / ACT. CONTRACT SUM | P38: EXPENDITURE TILL DATE | Q38: 2023 REVIEW / OUTSTANDING
A39: WIP-BUNGALOWS/FLAT
A40: 3111153 | B40: Rehabilitation of the DCDs recidence | C40: Nkroful | D40: kyekawa | E40: IGF | F40: 300000 | G40: 45029 | H40: 45182 | I40: 0 | J40: 0 | K40: Awarded | L40: New | M40: =F40 -> 300000 | N40: 420289.66 | O40: 420289.66 | P40: 63043.45 released | Q40: 378260.69
...

Sheet Sheet1
A1: CHART OF ACCOUNT | B1: PROJECT DESCRIPTION | C1: LOCATION | D1: CONTRCTOR / CONSULTANT | E1: FUND SOURCE | F1: CONTRACT SUM (GH₵) 1 | G1: DATE OF AWARD | H1: EXPECTED DATE OF COMPLETION | I1: EXPENDITURE TO DATE | J1: OUTSTANDING BALANCE | K1: % OF COMPLETION | L1: IMPLEMENTATION STATUS | M1: ALLOCATION FOR 2023 (GH¢) | N1: CONTRACT SUM (GH₵) 2 | O1: 2023 APPROVED EST / ACT. CONTRACT SUM | P1: EXPENDITURE TILL DATE | Q1: 2023 APPROVED EST / ACT. CONTRACT SUM | R1: 2023 REVIEW / OUTSTANDING
A2: WIP-TOILETS
A3: 3111353 | B3: Construction of 2 No. 6 Seater Water Closet Toilets with mechanized borehole | C3: Asanda, Baseke | D3: Sekamet Infinity Ltd | E3: DACF-RFG | F3: 460000 | G3: 45029 | H3: 45182 | I3: 0 | J3: 460000 | K3: Baseke Awarded | L3: New | M3: 460000 | N3: 341769.14 | O3: 341769.14 | P3: 0 | Q3: 341769.14 | R3: 307592.23
A4: 3111353 | B4: Construction of 1 No. 6 Seater Water Closet Toilets with mechanized borehole | C4: Asanda, | D4: Attans Enterprise Ltd. | E4: DACF | F4: 0 | G4: 45029 | H4: 45182 | I4: 0 | J4: 0 | K4: Yet to be awarded | L4: New | M4: 0 | N4: 342438.64 | O4: 291072.84 | P4: 51365.8 | Q4: 291072.84 | R4: 256828.97
A5: 3111256 | B5: Costruction of 1 No. 6 Unit Classroom Block, Office, Store, ICT,,Staff Common Room with 6-Seater Water Closet | C5: Esiama SDA Primary School | D5: Projekt 1 Ltd | E5: DACF | F5: 663953.85 | G5: 43596 | H5: 43956 | I5: 498820.05 | J5: =F5-I5 -> 165133.8 | K5: 0.95 | L5: Ongoing | M5: =J5 -> 165133.8 | N5: 685895.72 | O5: 187075.67 | P5: 634177.18 | Q5: 187075.67 | R5: 51718.536
A6: 3111353 | B6: Construction of 1No.12-Seater Water Closet | C6: Awiebo | D6: Joethur Limited | E6: DACF | F6: 166443.38 | G6: 43596 | H6: 43954 | I6: =24966.5+41102.2+48610.47 -> 114679.17 | J6: =F6-I6 -> 51764.21 | K6: 1 | L6: Completed | M6: =J6 -> 51764.21 | N6: 0 | O6: 51764.21 | P6: 166443.38 | Q6: 51764.21 | R6: PAID
A7: 3111353 | B7: Construction of 1 No. 16 seater W/C Toilet | C7: Aiyinase | D7: Nana Kofi Blankson Construction | E7: DACF | F7: 94386.61 | G7: 42166 | H7: 42438 | I7: 75760.61 | J7: =F7-I7 -> 18626 | K7: 1 | L7: Completed and in Use | M7: =J7 -> 18626 | N7: 0 | O7: 18626 | P7: 94386.61 | Q7: 18626 | R7: PAID
A8: 3111353 | B8: Construction of 1 No. 16 Aqua Privy Toilet | C8: Tandan | D8: P. Amponsah Ent. | E8: DACF | F8: 95323.06 | G8: 42166 | H8: 42438 | I8: 83276.58 | J8: =F8-I8 -> 12046.48 | K8: 1 | L8: Completed | M8: =J8 -> 12046.48 | N8: 0 | O8: 12046.48 | P8: 95323.06 | Q8: 12046.48 | R8: PAID
A9: 3111353 | B9: Construction of 4No.20 seater W/C | C9: Kikam, Nvuma, Esiama Mkt, Aiyinase Mkt | D9: - | E9: MDF | F9: 450000 | G9: - | H9: - | I9: 0 | J9: =F9 -> 450000 | K9: Yet to be awarded | L9: New | M9: 150000 | N9: 0 | O9: 150000 | P9: 0 | Q9: 150000 | R9: 0
A10: 3111353 | B10: Construction of 2No. 6 Seater at some selected schools | C10: UBAISHS (Kangbuli), Edwakpole | D10: - | E10: MDF | F10: 396234 | G10: - | H10: - | I10: 0 | J10: =F10-I10 -> 396234 | K10: Yet to be awarded | L10: New | M10: 138797 | N10: 0 | O10: 138797 | P10: 0 | Q10: 138797 | R10: 0
B11: Sub-total A | F11: =SUM(F3:F10) -> 2326340.9 | I11: =SUM(I3:I10) -> 772536.41 | J11: =SUM(J3:J10) -> 1553804.5 | M11: =SUM(M3:M10) -> 996367.49 | N11: =SUM(N3:N10) -> 1370103.5 | O11: =SUM(O3:O10) -> 1191151.3 | P11: =SUM(P3:P10) -> 1041696 | Q11: =SUM(Q3:Q10) -> 1191151.3 | R11: =SUM(R3:R10) -> 616139.73
A12: Actualised from 3111353 Projests above | B12: Construction of 1 No. 10 Seater Water Closet with Mechanized Borehole | C12: Kikam | D12: 17 Katona Company Ltd. | E12: MDF | F12: 0 | G12: 45029 | H12: 45182 | I12: 0 | J12: 0 | K12: Yet to be awarded | L12: New | M12: 0 | N12: 361941.69 | P12: 0 | Q12: 325747.52 | R12: 325747.52
B13: Construction of 1 No. 10 Seater Water Closet with Mechanized Borehole | C13: Esiama | D13: Zong-yin Company Ltd | E13: MDF | F13: 0 | G13: 45029 | H13: 45182 | I13: 0 | J13: 0 | K13: Awarded | L13: New | M13: 0 | N13: 360905.51 | P13: 54,135.83 released | Q13: 324814.96 | R13: 324814.96
B14: Construction of 1 No. 10 Seater Water Closet with Mechanized Borehole | C14: Kamgbunli | D14: Abera Construction Ltd | E14: MDF | F14: 0 | G14: 45029 | H14: 45182 | I14: 0 | J14: 0 | K14: Awarded | L14: New | M14: 0 | N14: 365953.54 | P14: 0 | Q14: 329358.19 | R14: 329358.19
B15: Construction of 1 No. 10 Seater Water Closet with Mechanized Borehole | C15: Aiyinase | D15: Jacoa Construction Ltd | E15: MDF | F15: 0 | G15: 45029 | H15: 45182 | I15: 0 | J15: 0 | K15: Awarded | L15: New | M15: 0 | N15: 361763.5 | P15: 0 | Q15: 325587.15 | R15: 325587.15
B16: Construction of 1 No. 10 Seater Water Closet with Mechanized Borehole | C16: Nvuma | D16: Sunnydale Ltd | E16: MDF | F16: 0 | G16: 45029 | H16: 45182 | I16: 0 | J16: 0 | K16: Yet to be awarded | L16: New | M16: 0 | N16: 364134.56 | P16: 0 | Q16: 327721.1 | R16: 327721.1
B17: Construction of 1 No. 10 Seater Water Closet with Mechanized Borehole | C17: Edwakpole | D17: Attans Enterprise Ltd. | E17: MDF | F17: 0 | G17: 45029 | H17: 45182 | I17: 0 | J17: 0 | K17: Awarded | L17: New | M17: 0 | N17: 363741.1 | P17: 54,561.17 released | Q17: 327366.99 | R17: 327366.99
B18: Sub-total B | F18: =SUM(F12:F17) -> 0 | I18: =SUM(I12:I17) -> 0 | J18: =SUM(J12:J17) -> 0 | M18: =SUM(M12:M17) -> 0 | N18: =SUM(N12:N17) -> 2178439.9 | P18: =SUM(P12:P17) -> 0 | Q18: =SUM(Q12:Q17) -> 1960595.9 | R18: =SUM(R12:R17) -> 1960595.9
B19: Sub-total C | F19: =F18+F11 -> 2326340.9 | I19: =I18+I11 -> 772536.41 | J19: =J18+J11 -> 1553804.5 | M19: =M18+M11 -> 996367.49 | N19: =N18+N11 -> 3548543.4 | P19: =P18+P11 -> 1041696 | Q19: =Q18+Q11 -> 3151747.2 | R19: =R18+R11 -> 2576735.6
A20: WIP-HEALTH CENTERS
A21: 3111252 | B21: Construction of Chps Compound | C21: Aluku | D21: Joethur Limited | E21: DACF | F21: 285007.38 | G21: 14/04/2020 | H21: 14/08/2020 | I21: 144461.35 | J21: =F21-I21 -> 140546.03 | K21: 0.65 | L21: On-going | M21: =J21 -> 140546.03 | N21: 314702.22 | P21: 144461.35 | Q21: 170240.87 | R21: 153216.78
A22: 3111252 | B22: Construction of Chps Compound | C22: Azulenoanu | D22: Axiles Construction Works | E22: DACF | F22: 281450.64 | G22: 14/04/2020 | H22: 14/08/2020 | I22: 274307.4 | J22: =F22-I22 -> 7143.24 | K22: 1 | L22: Completed and in Use | M22: =J22 -> 7143.24 | N22: =F22 -> 281450.64 | P22: =I22 -> 274307.4 | Q22: 7143.24 | R22: 0
B23: Sub-total | F23: =SUM(F21:F22) -> 566458.02 | I23: =SUM(I21:I22) -> 418768.75 | J23: =SUM(J21:J22) -> 147689.27 | M23: =SUM(M21:M22) -> 147689.27 | N23: =SUM(N21:N22) -> 596152.86 | P23: =SUM(P21:P22) -> 418768.75 | Q23: =SUM(Q21:Q22) -> 177384.11 | R23: =SUM(R21:R22) -> 153216.78
A24: WIP-SCHOOL BUILDINGS
A25: 3111256 | B25: Construction of 1No.3-Unit Classroom Block, Office and Store with Ancillary Facilities | C25: Awiaso. | D25: Macbabs Investments | E25: DACF | F25: 263243.31 | G25: 43596 | H25: 43954 | I25: 140187.31 | J25: =F25-I25 -> 123056 | K25: 1 | L25: On-going | M25: =J25 -> 123056 | N25: =F25 -> 263243.31 | P25: 236827.57 | Q25: 123056 | R25: 0
A26: 3111256 | B26: Costruction of 1 No. 3 Unit Classroom Block, Office, Store, ICT,,Staff Common Room | C26: Awiebo | D26: Joerica co. Ltd | E26: DACF | F26: 385532.23 | G26: 43596 | H26: 43954 | I26: 331331.03 | J26: =F26-I26 -> 54201.2 | K26: 1 | L26: Ongoing | M26: =J26 -> 54201.2 | N26: =F26 -> 385532.23 | P26: 382888.1 | Q26: 54201.2 | R26: 0
A27: 3111256 | B27: Costruction of 1 No. 3 Unit Classroom Block, Office, Store, ICT,,Staff Common Room and | C27: Nvelesolo | D27: John Jones Construction limited | E27: DACF | F27: 333246.21 | G27: 14/8/18 | H27: 43533 | I27: 314331.15 | J27: =F27-I27 -> 18915.06 | K27: 1 | L27: Ongoing | M27: =J27 -> 18915.06 | N27: =F27 -> 333246.21 | P27: =I27 -> 314331.15 | Q27: 18915.06 | R27: 17023.554
A28: 3111256 | B28: Construction of 1No. Three (3) unit Classroom Block with office and store ,ICT Center,Staff Common room | C28: Salman | D28: Zornambay Company limited | E28: MDF | F28: 375000 | G28: 16/8/19 | H28: 43533 | I28: =53487.38+45183.95+35150.05+126834.91 -> 260656.29 | J28: =F28-I28 -> 114343.71 | K28: 0.8 | L28: On-going | M28: =J28 -> 114343.71 | N28: =F28 -> 375000 | P28: =I28 -> 260656.29 | Q28: 114343.71 | R28: 102909.34
A29: 3111256 | B29: Construction of 1No. Three (3) unit Classroom Block with office and store ,ICT Center,Staff Common room | C29: Basake | D29: Joerica co. Ltd | E29: MDF | F29: 344081.19 | G29: 14/8/18 | H29: 43533 | I29: =51124.66+85323.3+52608.41+36841.31+65880.57 -> 291778.25 | J29: =F29-I29 -> 52302.94 | K29: 1 | L29: Complete | M29: =J29 -> 52302.94 | N29: =F29 -> 344081.19 | P29: =I29 -> 291778.25 | Q29: 52302.94 | R29: 47072.646
A30: 3111256 | B30: Construction of 1No. Three (3) unit Classroom Block with office and store ,ICT Center,Staff Common room | C30: Bomoakpole | D30: US Global Company Limited | E30: MDF | F30: 344144.93 | G30: 14/8/18 | H30: 43533 | I30: =51129.66+83769.72+69185.61+89714.96 -> 293799.95 | J30: =F30-I30 -> 50344.98 | K30: 1 | L30: Complete | M30: =J30 -> 50344.98 | N30: =F30 -> 344144.93 | P30: =I30 -> 293799.95 | Q30: 50344.98 | R30: 0
B31: Sub-total | F31: =SUM(F25:F30) -> 2045247.9 | I31: =SUM(I25:I30) -> 1632084 | J31: =SUM(J25:J30) -> 413163.89 | M31: =SUM(M25:M30) -> 413163.89 | N31: =SUM(N25:N30) -> 2045247.9 | P31: =SUM(P25:P30) -> 1780281.3 | Q31: =SUM(Q25:Q30) -> 413163.89 | R31: =SUM(R25:R30) -> 167005.54
A32: SLAUGHTER HOUSE
A33: 3111206 | B33: Construction of 1No. Slaughter House | C33: Aiyinase | E33: IGF | F33: 130000 | I33: 0 | K33: Yet to be awarded | L33: New | M33: =F33 -> 130000 | N33: =M33 -> 130000 | P33: 0 | Q33: 130000 | R33: 9000
A34: WIP-MARKETS
A35: 3111354 | B35: Construction of 3No. Market Shed | C35: Adubrim | D35: Jeorica Company Ltd | E35: IGF | F35: 260582.18 | G35: 14/04/2020 | H35: 14/07/2020 | I35: 193587.33 | J35: =F35-I35 -> 66994.85 | K35: 1 | L35: On-going | M35: =J35 -> 66994.85 | N35: =F35 -> 260582.18 | P35: 260582.18 | Q35: 0 | R35: 0
A36: 3111354 | B36: Construction of 1 No. 1Unit Modern Lockable Fish Market with 3 Handwashing facilities, terazzo floored, ceiling and 4-seater water closet toilet | C36: Aiyinase | D36: Sekamet Infinity Ltd | E36: DACF-RFG | F36: 500000 | G36: 45029 | H36: 45182 | I36: 0 | J36: 0 | K36: Yet to be awarded | L36: New | M36: 500000 | N36: 657519.39 | P36: 0 | Q36: 657519.39 | R36: 591767.45
A37: 3111354 | B37: Construction of 1 No. 3-Unit Market Sheds with 2 No. Urinals | C37: Nkroful | D37: Sekamet Infinity Ltd | E37: DACF-RFG | F37: 370000 | G37: 45029 | H37: 45182 | I37: 0 | J37: 0 | K37: Yet to be awarded | L37: New | M37: 370000 | N37: 458334.45 | P37: 68750.17 | Q37: 458334.45 | R37: 350625.85
B38: Sub-total | F38: =SUM(F35:F37) -> 1130582.2 | I38: =SUM(I35:I37) -> 193587.33 | J38: =SUM(J35:J37) -> 66994.85 | M38: =SUM(M35:M37) -> 936994.85 | N38: =SUM(N35:N37) -> 1376436 | P38: =SUM(P35:P37) -> 329332.35 | Q38: =SUM(Q35:Q37) -> 1115853.8 | R38: =SUM(R35:R37) -> 942393.3
A39: WIP-BUNGALOWS/FLAT
A40: 3111153 | B40: Rehabilitation of the DCDs recidence | C40: Nkroful | D40: kyekawa | E40: IGF | F40: 300000 | G40: 45029 | H40: 45182 | I40: 0 | K40: Awarded | L40: New | M40: =F40 -> 300000 | N40: 420289.66 | P40: 63043.45 released | Q40: 420289.66 | R40: 378260.69
...
